BEGIN:VCALENDAR
VERSION:2.0
PRODID:-//textilportal.net - ECPv6.15.20//NONSGML v1.0//EN
CALSCALE:GREGORIAN
METHOD:PUBLISH
X-ORIGINAL-URL:https://textilportal.net
X-WR-CALDESC:Veranstaltungen für textilportal.net
REFRESH-INTERVAL;VALUE=DURATION:PT1H
X-Robots-Tag:noindex
X-PUBLISHED-TTL:PT1H
BEGIN:VTIMEZONE
TZID:Europe/Berlin
BEGIN:DAYLIGHT
TZOFFSETFROM:+0100
TZOFFSETTO:+0200
TZNAME:CEST
DTSTART:20220327T010000
END:DAYLIGHT
BEGIN:STANDARD
TZOFFSETFROM:+0200
TZOFFSETTO:+0100
TZNAME:CET
DTSTART:20221030T010000
END:STANDARD
BEGIN:DAYLIGHT
TZOFFSETFROM:+0100
TZOFFSETTO:+0200
TZNAME:CEST
DTSTART:20230326T010000
END:DAYLIGHT
BEGIN:STANDARD
TZOFFSETFROM:+0200
TZOFFSETTO:+0100
TZNAME:CET
DTSTART:20231029T010000
END:STANDARD
BEGIN:DAYLIGHT
TZOFFSETFROM:+0100
TZOFFSETTO:+0200
TZNAME:CEST
DTSTART:20240331T010000
END:DAYLIGHT
BEGIN:STANDARD
TZOFFSETFROM:+0200
TZOFFSETTO:+0100
TZNAME:CET
DTSTART:20241027T010000
END:STANDARD
BEGIN:DAYLIGHT
TZOFFSETFROM:+0100
TZOFFSETTO:+0200
TZNAME:CEST
DTSTART:20250330T010000
END:DAYLIGHT
BEGIN:STANDARD
TZOFFSETFROM:+0200
TZOFFSETTO:+0100
TZNAME:CET
DTSTART:20251026T010000
END:STANDARD
END:VTIMEZONE
BEGIN:VEVENT
DTSTART;VALUE=DATE:20231015
DTEND;VALUE=DATE:20240429
DTSTAMP:20260423T234905
CREATED:20230825T031307Z
LAST-MODIFIED:20230825T031307Z
UID:10000309-1697328000-1714348799@textilportal.net
SUMMARY:Ariadne's Naaikussen: Historische Handarbeits- und Nähutensilien
DESCRIPTION:Seit 2018 besitzt die Draiflessen Collection die „Stichting Ariadne’s Naaikussen“. Diese Sammlung von annähernd 2.000 historischen Handarbeits- und Nähutensilien\, einer textilen Mustersammlung sowie einer Fachbibliothek hat Clementine Kuttschrütter\, geborene Brenninkmeijer\, über mehrere Jahrzehnte zusammengetragen. Die Kleinode datieren überwiegend ins 18. und 19. Jahrhundert und sind aus kostbaren Materialien kunstvoll gearbeitet. Dazu zählen neben heute noch gebräuchlichen Dingen wie Nadeln\, Scheren\, Fingerhüten oder aufwendigen Nähkästchen auch solche wie Garnkugeln\, Nähzwingen oder Schiffchen für Frivolitätenarbeiten\, deren praktische Bedeutung und Ästhetik wir neu erfahren können. \nDie Erstpräsentation von „Ariadne’s Naaikussen“ in den Räumen der Draiflessen Collection stellt Highlights vor und bildet den Start für die wissenschaftliche Bearbeitung dieser herausragenden Sammlung. Sie ist zugleich Würdigung der passionierten Sammlerin\, die in diesem Jahr 90 Jahre alt geworden wäre. \nBildnachweis: Miniatur-Nähkissen\, ohne Datierung\, © Draiflessen Collection\, Sammlung Ariadne’s Naaikussen\, Foto: Henning Rogge 
URL:https://textilportal.net/event/2023-draiflessen-ariadnes-naaikussen/
LOCATION:Draiflessen Collection\, Mettingen\, DE\, Georgstr. 18\, Mettingen\, Nordrhein-Westfalen\, 49497\, Deutschland
CATEGORIES:Ausstellung
ATTACH;FMTTYPE=image/jpeg:https://textilportal.net/wp-content/uploads/2023/08/2023-draiflessen-ariadne.jpg
GEO:52.3287189;7.7878608
X-APPLE-STRUCTURED-LOCATION;VALUE=URI;X-ADDRESS=Draiflessen Collection Mettingen DE Georgstr. 18 Mettingen Nordrhein-Westfalen 49497 Deutschland;X-APPLE-RADIUS=500;X-TITLE=Georgstr. 18:geo:7.7878608,52.3287189
END:VEVENT
END:VCALENDAR