BEGIN:VCALENDAR
VERSION:2.0
PRODID:-//textilportal.net - ECPv6.15.20//NONSGML v1.0//EN
CALSCALE:GREGORIAN
METHOD:PUBLISH
X-ORIGINAL-URL:https://textilportal.net
X-WR-CALDESC:Veranstaltungen für textilportal.net
REFRESH-INTERVAL;VALUE=DURATION:PT1H
X-Robots-Tag:noindex
X-PUBLISHED-TTL:PT1H
BEGIN:VTIMEZONE
TZID:Europe/Berlin
BEGIN:DAYLIGHT
TZOFFSETFROM:+0100
TZOFFSETTO:+0200
TZNAME:CEST
DTSTART:20230326T010000
END:DAYLIGHT
BEGIN:STANDARD
TZOFFSETFROM:+0200
TZOFFSETTO:+0100
TZNAME:CET
DTSTART:20231029T010000
END:STANDARD
BEGIN:DAYLIGHT
TZOFFSETFROM:+0100
TZOFFSETTO:+0200
TZNAME:CEST
DTSTART:20240331T010000
END:DAYLIGHT
BEGIN:STANDARD
TZOFFSETFROM:+0200
TZOFFSETTO:+0100
TZNAME:CET
DTSTART:20241027T010000
END:STANDARD
BEGIN:DAYLIGHT
TZOFFSETFROM:+0100
TZOFFSETTO:+0200
TZNAME:CEST
DTSTART:20250330T010000
END:DAYLIGHT
BEGIN:STANDARD
TZOFFSETFROM:+0200
TZOFFSETTO:+0100
TZNAME:CET
DTSTART:20251026T010000
END:STANDARD
BEGIN:DAYLIGHT
TZOFFSETFROM:+0100
TZOFFSETTO:+0200
TZNAME:CEST
DTSTART:20260329T010000
END:DAYLIGHT
BEGIN:STANDARD
TZOFFSETFROM:+0200
TZOFFSETTO:+0100
TZNAME:CET
DTSTART:20261025T010000
END:STANDARD
END:VTIMEZONE
BEGIN:VEVENT
DTSTART;TZID=Europe/Berlin:20240921T000000
DTEND;TZID=Europe/Berlin:20250518T235959
DTSTAMP:20260423T131430
CREATED:20241002T023448Z
LAST-MODIFIED:20250117T173451Z
UID:10000545-1726876800-1747612799@textilportal.net
SUMMARY:Nike: Form Follows Motion
DESCRIPTION:Mit »Nike: Form Follows Motion« präsentiert das Vitra Design Museum die erste Museumsschau über Nike\, die größte Sportmarke weltweit. Die Ausstellung verfolgt den Aufstieg des Unternehmens von einem lokalen Start-up zu einem globalen Phänomen und legt den Fokus auf Nikes faszinierende Designgeschichte. Diese reicht von den experimentellen Anfängen in den 1960er-Jahren und dem Entwurf des berühmten »Swoosh«-Logos Anfang der 1970er über Innovationen wie die Air-Sohle bis hin zu aktuellen Forschungen zu Nachhaltigkeit und neuen Materialien. Zugleich untersucht die Ausstellung die Rolle des Sports in unserer Gesellschaft sowie die fast mythische Verehrung von Sneakers und Sportmode in Popkultur und sozialen Medien. »Nike: Form Follows Motion« schließt damit an einen Sommer der sportlichen Großereignisse an\, der von den Olympischen- sowie Paralympischen Spielen in Paris und der Fussball-Europameisterschaft in Deutschland geprägt ist. Die Ausstellung wurde vom Vitra Design Museum initiiert und produziert; Kurator ist der international renommierte Designhistoriker Glenn Adamson. \nAbb.: Key Visual »Nike: Form Follows Motion« © Vitra Design Museum\, Grafik Design: Daniel Streat\, Visual Fields
URL:https://textilportal.net/event/nike-form-follows-motion/
LOCATION:Vitra Design Museum\, Weil am Rhein\, DE\, Charles-Eames-Straße\, Weil am Rhein\, Baden-Württemberg\, 79576\, Germany
CATEGORIES:Ausstellung
ATTACH;FMTTYPE=image/jpeg:https://textilportal.net/wp-content/uploads/2024/10/2024-vdm-nike-form-follows-motion-2a7c1f03d8.jpg
GEO:47.6027524;7.6177255
X-APPLE-STRUCTURED-LOCATION;VALUE=URI;X-ADDRESS=Vitra Design Museum Weil am Rhein DE Charles-Eames-Straße Weil am Rhein Baden-Württemberg 79576 Germany;X-APPLE-RADIUS=500;X-TITLE=Charles-Eames-Straße:geo:7.6177255,47.6027524
END:VEVENT
END:VCALENDAR